BEGIN:VCALENDAR
VERSION:2.0
PRODID:-//North Toronto Collegiate Institute - ECPv6.2.2//NONSGML v1.0//EN
CALSCALE:GREGORIAN
METHOD:PUBLISH
X-WR-CALNAME:North Toronto Collegiate Institute
X-ORIGINAL-URL:https://northtorontoci.ca
X-WR-CALDESC:Events for North Toronto Collegiate Institute
REFRESH-INTERVAL;VALUE=DURATION:PT1H
X-Robots-Tag:noindex
X-PUBLISHED-TTL:PT1H
BEGIN:VTIMEZONE
TZID:America/New_York
BEGIN:DAYLIGHT
TZOFFSETFROM:-0500
TZOFFSETTO:-0400
TZNAME:EDT
DTSTART:20210314T070000
END:DAYLIGHT
BEGIN:STANDARD
TZOFFSETFROM:-0400
TZOFFSETTO:-0500
TZNAME:EST
DTSTART:20211107T060000
END:STANDARD
END:VTIMEZONE
BEGIN:VEVENT
DTSTART;TZID=America/New_York:20210729T150000
DTEND;TZID=America/New_York:20210729T163000
DTSTAMP:20260422T180739
CREATED:20210714T013249Z
LAST-MODIFIED:20210714T013249Z
UID:7420-1627570800-1627576200@northtorontoci.ca
SUMMARY:Sr Boys Basketball vs. Humberside C.I.
DESCRIPTION:This is not a real event since sports are cancelled for 2020-21. \nThis is a placeholder for the calendar as we test the website.
URL:https://northtorontoci.ca/event/sr-boys-basketball-vs-humberside-c-i/
LOCATION:North Toronto Collegiate Main Gym\, 17 Broadway Avenue\, Toronto\, Ontario\, M4N 1T7\, Canada
CATEGORIES:Athletics,Boys Basketball,Sr Boys Basketball
ATTACH;FMTTYPE=image/jpeg:https://northtorontoci.ca/wp-content/uploads/2020/10/NTCI-Basketball-Yearbook-Photo-Myles-Dribbling-scaled.jpg
END:VEVENT
END:VCALENDAR